BEGIN:VCALENDAR
VERSION:2.0
PRODID:-//Chrysalis Society - ECPv6.15.20//NONSGML v1.0//EN
CALSCALE:GREGORIAN
METHOD:PUBLISH
X-WR-CALNAME:Chrysalis Society
X-ORIGINAL-URL:https://chrysalis.ca
X-WR-CALDESC:Events for Chrysalis Society
REFRESH-INTERVAL;VALUE=DURATION:PT1H
X-Robots-Tag:noindex
X-PUBLISHED-TTL:PT1H
BEGIN:VTIMEZONE
TZID:America/Edmonton
BEGIN:DAYLIGHT
TZOFFSETFROM:-0700
TZOFFSETTO:-0600
TZNAME:MDT
DTSTART:20250309T090000
END:DAYLIGHT
BEGIN:STANDARD
TZOFFSETFROM:-0600
TZOFFSETTO:-0700
TZNAME:MST
DTSTART:20251102T080000
END:STANDARD
BEGIN:DAYLIGHT
TZOFFSETFROM:-0700
TZOFFSETTO:-0600
TZNAME:MDT
DTSTART:20260308T090000
END:DAYLIGHT
BEGIN:STANDARD
TZOFFSETFROM:-0600
TZOFFSETTO:-0700
TZNAME:MST
DTSTART:20261101T080000
END:STANDARD
BEGIN:DAYLIGHT
TZOFFSETFROM:-0700
TZOFFSETTO:-0600
TZNAME:MDT
DTSTART:20270314T090000
END:DAYLIGHT
BEGIN:STANDARD
TZOFFSETFROM:-0600
TZOFFSETTO:-0700
TZNAME:MST
DTSTART:20271107T080000
END:STANDARD
END:VTIMEZONE
BEGIN:VEVENT
DTSTART;TZID=America/Edmonton:20260526T170000
DTEND;TZID=America/Edmonton:20260526T190000
DTSTAMP:20260422T163437
CREATED:20260401T205725Z
LAST-MODIFIED:20260401T205725Z
UID:3108-1779814800-1779822000@chrysalis.ca
SUMMARY:Chrysalis Connects - Calgary
DESCRIPTION:Mark your calendars for an evening of connection\, conversation\, and community at our upcoming Chrysalis Connects event! \n🗓 Tuesday\, May 26\, 2026\n⏰ 5:00 – 7:00 PM\n📍 Prairie Dog Brewing (105D 58 Ave SE\, Calgary) \nJoin us for a relaxed and welcoming evening where you can meet new people\, strengthen connections\, and learn more about the impact of Chrysalis. Whether you’re a long-time supporter or new to our community\, this is a great opportunity to connect in a meaningful way. \nA special thank you to 403 Tech for supporting this event. \nRegister now\nWe can’t wait to see you there!
URL:https://chrysalis.ca/event/chrysalis-connects-calgary/
LOCATION:Prairie Dog Brewing\, 105D 58 Ave SE\, Calgary\, Alberta\, T2H 0N8\, Canada
CATEGORIES:Calgary,Chrysalis Connects
END:VEVENT
END:VCALENDAR